BEGIN:VCALENDAR
VERSION:2.0
PRODID:-//Klöndör e.V. - ECPv6.15.19//NONSGML v1.0//EN
CALSCALE:GREGORIAN
METHOD:PUBLISH
X-ORIGINAL-URL:https://kloendoer-ev.de
X-WR-CALDESC:Veranstaltungen für Klöndör e.V.
REFRESH-INTERVAL;VALUE=DURATION:PT1H
X-Robots-Tag:noindex
X-PUBLISHED-TTL:PT1H
BEGIN:VTIMEZONE
TZID:Europe/Berlin
BEGIN:DAYLIGHT
TZOFFSETFROM:+0100
TZOFFSETTO:+0200
TZNAME:CEST
DTSTART:20250330T010000
END:DAYLIGHT
BEGIN:STANDARD
TZOFFSETFROM:+0200
TZOFFSETTO:+0100
TZNAME:CET
DTSTART:20251026T010000
END:STANDARD
BEGIN:DAYLIGHT
TZOFFSETFROM:+0100
TZOFFSETTO:+0200
TZNAME:CEST
DTSTART:20260329T010000
END:DAYLIGHT
BEGIN:STANDARD
TZOFFSETFROM:+0200
TZOFFSETTO:+0100
TZNAME:CET
DTSTART:20261025T010000
END:STANDARD
BEGIN:DAYLIGHT
TZOFFSETFROM:+0100
TZOFFSETTO:+0200
TZNAME:CEST
DTSTART:20270328T010000
END:DAYLIGHT
BEGIN:STANDARD
TZOFFSETFROM:+0200
TZOFFSETTO:+0100
TZNAME:CET
DTSTART:20271031T010000
END:STANDARD
END:VTIMEZONE
BEGIN:VEVENT
DTSTART;TZID=Europe/Berlin:20260908T180000
DTEND;TZID=Europe/Berlin:20260908T220000
DTSTAMP:20260420T175912
CREATED:20260114T121716Z
LAST-MODIFIED:20260114T121716Z
UID:1292-1788890400-1788904800@kloendoer-ev.de
SUMMARY:Spinnstube
DESCRIPTION:Da ab Januar das Café des Museums für einen Neubau abgerissen wird\, werden der Klöndör-Stammtisch\, die Spinnstube und die Plattdütsch-Runn ab sofort im Mueßer Dörphus stattfinden\, Lomonossowstraße 15 (ehemals Kinninghus) an der Netto-Kreuzung zur B321. Vielen Dank an den Mueßer Dorfverein und die Mueßer Ortsteilvertretung!
URL:https://kloendoer-ev.de/event/spinnstube-8/
END:VEVENT
BEGIN:VEVENT
DTSTART;TZID=Europe/Berlin:20260926T080000
DTEND;TZID=Europe/Berlin:20260926T170000
DTSTAMP:20260420T175912
CREATED:20260325T200620Z
LAST-MODIFIED:20260325T200620Z
UID:1332-1790409600-1790442000@kloendoer-ev.de
SUMMARY:Mitmachtag
DESCRIPTION:Am 26. September findet der vierte Mitmachtag des Klöndör e.V. im Freilichtmuseum Schwerin-Mueß statt. Vereinsmitglieder werden an diesem und den folgenden letzten Sonnabenden des Monats ab 14 Uhr einen Nachmittag lang mit wechselnden Themen zeigen\, wie Vereinsarbeit auch aussehen kann: während das Herz der einen am Spinnrad höher schlägt\, zeigen andere\, wie früher das Waschen im Zuber oder im Sommer das Mähen mit der Sense erledigt wurden. Mitglieder der frisch gegründeten Schmiede-Sparte heizen die Esse an. Platdüütsch schnacken gehört selbstverständlich auch dazu und wer es noch nicht kann\, wird hier vielleicht nachhaltig inspiriert. \nDie weiteren Termine sind 25.04.\, 30.05.\, 27.06.\, 26.09. und 31.10. Die Mitmachtage beginnen immer um 11 Uhr mit einer Themenführung durch Museumsmitarbeiter oder -mitarbeiterinnen. \nMitmachtag
URL:https://kloendoer-ev.de/event/mitmachtag-3/
END:VEVENT
END:VCALENDAR