BEGIN:VCALENDAR
VERSION:2.0
PRODID:-//Klöndör e.V. - ECPv6.15.19//NONSGML v1.0//EN
CALSCALE:GREGORIAN
METHOD:PUBLISH
X-ORIGINAL-URL:https://kloendoer-ev.de
X-WR-CALDESC:Veranstaltungen für Klöndör e.V.
REFRESH-INTERVAL;VALUE=DURATION:PT1H
X-Robots-Tag:noindex
X-PUBLISHED-TTL:PT1H
BEGIN:VTIMEZONE
TZID:Europe/Berlin
BEGIN:DAYLIGHT
TZOFFSETFROM:+0100
TZOFFSETTO:+0200
TZNAME:CEST
DTSTART:20240331T010000
END:DAYLIGHT
BEGIN:STANDARD
TZOFFSETFROM:+0200
TZOFFSETTO:+0100
TZNAME:CET
DTSTART:20241027T010000
END:STANDARD
BEGIN:DAYLIGHT
TZOFFSETFROM:+0100
TZOFFSETTO:+0200
TZNAME:CEST
DTSTART:20250330T010000
END:DAYLIGHT
BEGIN:STANDARD
TZOFFSETFROM:+0200
TZOFFSETTO:+0100
TZNAME:CET
DTSTART:20251026T010000
END:STANDARD
BEGIN:DAYLIGHT
TZOFFSETFROM:+0100
TZOFFSETTO:+0200
TZNAME:CEST
DTSTART:20260329T010000
END:DAYLIGHT
BEGIN:STANDARD
TZOFFSETFROM:+0200
TZOFFSETTO:+0100
TZNAME:CET
DTSTART:20261025T010000
END:STANDARD
END:VTIMEZONE
BEGIN:VEVENT
DTSTART;TZID=Europe/Berlin:20250606T163000
DTEND;TZID=Europe/Berlin:20250606T183000
DTSTAMP:20260421T034428
CREATED:20250319T123815Z
LAST-MODIFIED:20250319T123815Z
UID:1120-1749227400-1749234600@kloendoer-ev.de
SUMMARY:Tanzseminar
DESCRIPTION:Tanzseminar für den Abend mit Vivien Zeller\, Christian Radewald und Ralf Gehler
URL:https://kloendoer-ev.de/event/tanzseminar-2/
END:VEVENT
BEGIN:VEVENT
DTSTART;TZID=Europe/Berlin:20250606T193000
DTEND;TZID=Europe/Berlin:20250606T220000
DTSTAMP:20260421T034428
CREATED:20250319T123851Z
LAST-MODIFIED:20250319T123851Z
UID:1122-1749238200-1749247200@kloendoer-ev.de
SUMMARY:Traditioneller Volkstanzabend
DESCRIPTION:Traditioneller Volkstanzabend mit Live-Musik zum Mitmachen
URL:https://kloendoer-ev.de/event/traditioneller-volkstanzabend-2/
END:VEVENT
BEGIN:VEVENT
DTSTART;TZID=Europe/Berlin:20250620T163000
DTEND;TZID=Europe/Berlin:20250620T183000
DTSTAMP:20260421T034428
CREATED:20250319T123926Z
LAST-MODIFIED:20250319T123926Z
UID:1124-1750437000-1750444200@kloendoer-ev.de
SUMMARY:Tanzseminar
DESCRIPTION:Tanzseminar für den Abend mit Wolfgang Meyering und Ralf Gehler
URL:https://kloendoer-ev.de/event/tanzseminar-3/
END:VEVENT
BEGIN:VEVENT
DTSTART;TZID=Europe/Berlin:20250620T193000
DTEND;TZID=Europe/Berlin:20250620T220000
DTSTAMP:20260421T034428
CREATED:20250319T124003Z
LAST-MODIFIED:20250319T124003Z
UID:1126-1750447800-1750456800@kloendoer-ev.de
SUMMARY:Traditioneller Volkstanzabend
DESCRIPTION:Traditioneller Volkstanzabend mit Live-Musik zum Mitmachen
URL:https://kloendoer-ev.de/event/traditioneller-volkstanzabend-3/
END:VEVENT
BEGIN:VEVENT
DTSTART;TZID=Europe/Berlin:20250628T110000
DTEND;TZID=Europe/Berlin:20250628T180000
DTSTAMP:20260421T034428
CREATED:20250319T124036Z
LAST-MODIFIED:20250319T124036Z
UID:1128-1751108400-1751133600@kloendoer-ev.de
SUMMARY:Tag der Diatonischen Handharmonika
DESCRIPTION:Tag der Diatonischen Handharmonika mit Vorträgen und Seminaren
URL:https://kloendoer-ev.de/event/tag-der-diatonischen-handharmonika/
END:VEVENT
END:VCALENDAR