BEGIN:VCALENDAR
VERSION:2.0
PRODID:-//Klöndör e.V. - ECPv6.15.19//NONSGML v1.0//EN
CALSCALE:GREGORIAN
METHOD:PUBLISH
X-WR-CALNAME:Klöndör e.V.
X-ORIGINAL-URL:https://kloendoer-ev.de
X-WR-CALDESC:Veranstaltungen für Klöndör e.V.
REFRESH-INTERVAL;VALUE=DURATION:PT1H
X-Robots-Tag:noindex
X-PUBLISHED-TTL:PT1H
BEGIN:VTIMEZONE
TZID:Europe/Berlin
BEGIN:DAYLIGHT
TZOFFSETFROM:+0100
TZOFFSETTO:+0200
TZNAME:CEST
DTSTART:20250330T010000
END:DAYLIGHT
BEGIN:STANDARD
TZOFFSETFROM:+0200
TZOFFSETTO:+0100
TZNAME:CET
DTSTART:20251026T010000
END:STANDARD
BEGIN:DAYLIGHT
TZOFFSETFROM:+0100
TZOFFSETTO:+0200
TZNAME:CEST
DTSTART:20260329T010000
END:DAYLIGHT
BEGIN:STANDARD
TZOFFSETFROM:+0200
TZOFFSETTO:+0100
TZNAME:CET
DTSTART:20261025T010000
END:STANDARD
BEGIN:DAYLIGHT
TZOFFSETFROM:+0100
TZOFFSETTO:+0200
TZNAME:CEST
DTSTART:20270328T010000
END:DAYLIGHT
BEGIN:STANDARD
TZOFFSETFROM:+0200
TZOFFSETTO:+0100
TZNAME:CET
DTSTART:20271031T010000
END:STANDARD
END:VTIMEZONE
BEGIN:VEVENT
DTSTART;VALUE=DATE:20260718
DTEND;VALUE=DATE:20260720
DTSTAMP:20260420T161416
CREATED:20260325T200926Z
LAST-MODIFIED:20260325T200926Z
UID:1336-1784332800-1784505599@kloendoer-ev.de
SUMMARY:Zeitreise Müß
DESCRIPTION:Ein weiterer Höhepunkt ist die „Zeitreise Mueß“ am Wochenende 18.-19.07. Seit 2014 kommen einmal im Jahr viele Mitstreiter aus Nah und Fern im Freilichtmuseum Schwerin-Mueß zusammen\, um das Dorfleben in allen Facetten um 1900 darzustellen. Dazu gehört neben der historischen Kleidung natürlich das alte Handwerk: das Spinnrad dreht sich lustig\, die Sense wird geschwungen\, die Schmiede erklingt und es gibt historische Gerichte vom holzbeheizten Herd. \nMitmachtag
URL:https://kloendoer-ev.de/event/zeitreise-muess/
END:VEVENT
END:VCALENDAR