BEGIN:VCALENDAR
VERSION:2.0
PRODID:-//Klöndör e.V. - ECPv6.15.19//NONSGML v1.0//EN
CALSCALE:GREGORIAN
METHOD:PUBLISH
X-ORIGINAL-URL:https://kloendoer-ev.de
X-WR-CALDESC:Veranstaltungen für Klöndör e.V.
REFRESH-INTERVAL;VALUE=DURATION:PT1H
X-Robots-Tag:noindex
X-PUBLISHED-TTL:PT1H
BEGIN:VTIMEZONE
TZID:Europe/Berlin
BEGIN:DAYLIGHT
TZOFFSETFROM:+0100
TZOFFSETTO:+0200
TZNAME:CEST
DTSTART:20250330T010000
END:DAYLIGHT
BEGIN:STANDARD
TZOFFSETFROM:+0200
TZOFFSETTO:+0100
TZNAME:CET
DTSTART:20251026T010000
END:STANDARD
BEGIN:DAYLIGHT
TZOFFSETFROM:+0100
TZOFFSETTO:+0200
TZNAME:CEST
DTSTART:20260329T010000
END:DAYLIGHT
BEGIN:STANDARD
TZOFFSETFROM:+0200
TZOFFSETTO:+0100
TZNAME:CET
DTSTART:20261025T010000
END:STANDARD
BEGIN:DAYLIGHT
TZOFFSETFROM:+0100
TZOFFSETTO:+0200
TZNAME:CEST
DTSTART:20270328T010000
END:DAYLIGHT
BEGIN:STANDARD
TZOFFSETFROM:+0200
TZOFFSETTO:+0100
TZNAME:CET
DTSTART:20271031T010000
END:STANDARD
END:VTIMEZONE
BEGIN:VEVENT
DTSTART;TZID=Europe/Berlin:20260604T180000
DTEND;TZID=Europe/Berlin:20260604T220000
DTSTAMP:20260420T143431
CREATED:20260114T121058Z
LAST-MODIFIED:20260114T121058Z
UID:1269-1780596000-1780610400@kloendoer-ev.de
SUMMARY:Klöndör-Stammtisch
DESCRIPTION:Da ab Januar das Café des Museums für einen Neubau abgerissen wird\, werden der Klöndör-Stammtisch\, die Spinnstube und die Plattdütsch-Runn ab sofort im Mueßer Dörphus stattfinden\, Lomonossowstraße 15 (ehemals Kinninghus) an der Netto-Kreuzung zur B321. Vielen Dank an den Mueßer Dorfverein und die Mueßer Ortsteilvertretung!
URL:https://kloendoer-ev.de/event/kloendoer-stammtisch-3/
END:VEVENT
END:VCALENDAR